BEGIN:VCALENDAR
VERSION:2.0
PRODID:-//Knot and Purl - ECPv6.15.20//NONSGML v1.0//EN
CALSCALE:GREGORIAN
METHOD:PUBLISH
X-WR-CALNAME:Knot and Purl
X-ORIGINAL-URL:https://knotandpurl.com
X-WR-CALDESC:Events for Knot and Purl
REFRESH-INTERVAL;VALUE=DURATION:PT1H
X-Robots-Tag:noindex
X-PUBLISHED-TTL:PT1H
BEGIN:VTIMEZONE
TZID:America/New_York
BEGIN:DAYLIGHT
TZOFFSETFROM:-0500
TZOFFSETTO:-0400
TZNAME:EDT
DTSTART:20240310T070000
END:DAYLIGHT
BEGIN:STANDARD
TZOFFSETFROM:-0400
TZOFFSETTO:-0500
TZNAME:EST
DTSTART:20241103T060000
END:STANDARD
BEGIN:DAYLIGHT
TZOFFSETFROM:-0500
TZOFFSETTO:-0400
TZNAME:EDT
DTSTART:20250309T070000
END:DAYLIGHT
BEGIN:STANDARD
TZOFFSETFROM:-0400
TZOFFSETTO:-0500
TZNAME:EST
DTSTART:20251102T060000
END:STANDARD
BEGIN:DAYLIGHT
TZOFFSETFROM:-0500
TZOFFSETTO:-0400
TZNAME:EDT
DTSTART:20260308T070000
END:DAYLIGHT
BEGIN:STANDARD
TZOFFSETFROM:-0400
TZOFFSETTO:-0500
TZNAME:EST
DTSTART:20261101T060000
END:STANDARD
END:VTIMEZONE
BEGIN:VEVENT
DTSTART;TZID=America/New_York:20251028T120000
DTEND;TZID=America/New_York:20251028T170000
DTSTAMP:20260421T171204
CREATED:20250820T175840Z
LAST-MODIFIED:20250903T201255Z
UID:3334-1761652800-1761670800@knotandpurl.com
SUMMARY:Crafty Kids Club - Early Dismissal Days
DESCRIPTION:✨ Crafty Kids Club: Early Dismissal Days ✨ \nWhen school lets out early\, bring the kids to Knot & Purl for an afternoon of creativity and fun! Our Crafty Kids Club is the perfect way to fill those extra hours with hands-on projects\, laughter\, and imagination. \nKids can choose from a variety of crafts — from painting and beading to fiber arts and mixed media — with guidance from our friendly staff. Whether they want to dive into a project start-to-finish or experiment with something new\, there’s always something engaging to make and take home. \nWe’ll provide all the supplies (plus snacks to keep the energy up!) so parents can relax knowing the afternoon is covered. \n⏰ Available on all Newton and Needham Public School early release days🎨 Open to kids ages 8+ \nSpace is limited — sign up now to reserve your spot! \n\n\nPricing & Reservations \n\nSession Rate: $125 per session\nAfternoon session – 12:00 PM – 5:00 PM\n\nBook HERE – [This will open a different page to pick your dates.]\nNeed extended hours? Contact Us
URL:https://knotandpurl.com/calendar/crafty-kids-club-early-dismissal-days-10/
CATEGORIES:All Crafts,Family Friendly,Recurring
ATTACH;FMTTYPE=image/png:https://knotandpurl.com/wp-content/uploads/2025/08/Crafty-Kids-Club-Graphics.png
END:VEVENT
END:VCALENDAR