BEGIN:VCALENDAR
VERSION:2.0
PRODID:-//Knot and Purl - ECPv6.15.20//NONSGML v1.0//EN
CALSCALE:GREGORIAN
METHOD:PUBLISH
X-WR-CALNAME:Knot and Purl
X-ORIGINAL-URL:https://knotandpurl.com
X-WR-CALDESC:Events for Knot and Purl
REFRESH-INTERVAL;VALUE=DURATION:PT1H
X-Robots-Tag:noindex
X-PUBLISHED-TTL:PT1H
BEGIN:VTIMEZONE
TZID:America/New_York
BEGIN:DAYLIGHT
TZOFFSETFROM:-0500
TZOFFSETTO:-0400
TZNAME:EDT
DTSTART:20240310T070000
END:DAYLIGHT
BEGIN:STANDARD
TZOFFSETFROM:-0400
TZOFFSETTO:-0500
TZNAME:EST
DTSTART:20241103T060000
END:STANDARD
BEGIN:DAYLIGHT
TZOFFSETFROM:-0500
TZOFFSETTO:-0400
TZNAME:EDT
DTSTART:20250309T070000
END:DAYLIGHT
BEGIN:STANDARD
TZOFFSETFROM:-0400
TZOFFSETTO:-0500
TZNAME:EST
DTSTART:20251102T060000
END:STANDARD
BEGIN:DAYLIGHT
TZOFFSETFROM:-0500
TZOFFSETTO:-0400
TZNAME:EDT
DTSTART:20260308T070000
END:DAYLIGHT
BEGIN:STANDARD
TZOFFSETFROM:-0400
TZOFFSETTO:-0500
TZNAME:EST
DTSTART:20261101T060000
END:STANDARD
END:VTIMEZONE
BEGIN:VEVENT
DTSTART;TZID=America/New_York:20250923T080000
DTEND;TZID=America/New_York:20250923T170000
DTSTAMP:20260421T194931
CREATED:20250907T225556Z
LAST-MODIFIED:20250919T191034Z
UID:3481-1758614400-1758646800@knotandpurl.com
SUMMARY:Crafty Kids Club - No School Days
DESCRIPTION:🎉 Crafty Kids Club: No School Days 🎉 \nSchool’s out — but the fun doesn’t stop at Knot & Purl! On days when kids have no school (teacher work days\, holidays\, or those random “don’t-know-why” days)\, we’ve got you covered with a full day of crafting and creativity. \nKids will dive into a variety of projects — from painting to fiber arts\, mosaics\, and more. They’ll have the freedom to explore\, create\, and take home their masterpieces while making new friends along the way. \nWe’ll provide everything: supplies\, guidance\, and snacks to keep the creativity flowing. Parents can enjoy peace of mind knowing their kids are in a safe\, inspiring\, and fun space. \n⏰ 2 sessions available – morning 8a-12p | afternoon 1-5p🎨 Open to kids ages 8+💲 $90 per session \nSpots fill fast for these no-school craft days — reserve yours today! \n\n\nBook HERE – [This will open a different page to pick your dates.]\nNeed extended hours? Contact Us
URL:https://knotandpurl.com/calendar/crafty-kids-club-no-school-days-3/
CATEGORIES:All Crafts,Family Friendly,Recurring
ATTACH;FMTTYPE=image/png:https://knotandpurl.com/wp-content/uploads/2025/09/No-School-Days-3.png
END:VEVENT
END:VCALENDAR