BEGIN:VCALENDAR
VERSION:2.0
PRODID:-//Knot and Purl - ECPv6.15.20//NONSGML v1.0//EN
CALSCALE:GREGORIAN
METHOD:PUBLISH
X-WR-CALNAME:Knot and Purl
X-ORIGINAL-URL:https://knotandpurl.com
X-WR-CALDESC:Events for Knot and Purl
REFRESH-INTERVAL;VALUE=DURATION:PT1H
X-Robots-Tag:noindex
X-PUBLISHED-TTL:PT1H
BEGIN:VTIMEZONE
TZID:America/New_York
BEGIN:DAYLIGHT
TZOFFSETFROM:-0500
TZOFFSETTO:-0400
TZNAME:EDT
DTSTART:20240310T070000
END:DAYLIGHT
BEGIN:STANDARD
TZOFFSETFROM:-0400
TZOFFSETTO:-0500
TZNAME:EST
DTSTART:20241103T060000
END:STANDARD
BEGIN:DAYLIGHT
TZOFFSETFROM:-0500
TZOFFSETTO:-0400
TZNAME:EDT
DTSTART:20250309T070000
END:DAYLIGHT
BEGIN:STANDARD
TZOFFSETFROM:-0400
TZOFFSETTO:-0500
TZNAME:EST
DTSTART:20251102T060000
END:STANDARD
BEGIN:DAYLIGHT
TZOFFSETFROM:-0500
TZOFFSETTO:-0400
TZNAME:EDT
DTSTART:20260308T070000
END:DAYLIGHT
BEGIN:STANDARD
TZOFFSETFROM:-0400
TZOFFSETTO:-0500
TZNAME:EST
DTSTART:20261101T060000
END:STANDARD
END:VTIMEZONE
BEGIN:VEVENT
DTSTART;TZID=America/New_York:20250427T100000
DTEND;TZID=America/New_York:20250427T140000
DTSTAMP:20260422T032916
CREATED:20250314T212759Z
LAST-MODIFIED:20250419T231841Z
UID:1934-1745748000-1745762400@knotandpurl.com
SUMMARY:April Recess Break - Open Crafting
DESCRIPTION:Unleash Your Creativity this April Recess at Open Crafting for Tweens and Teens! \nThis April Break\, join us for special Open Crafting hours designed just for tweens and teens! Whether you’re a seasoned crafter or just looking for a fun way to spend your time\, come craft your heart out with our wide selection of supplies ready for your imagination to explore. \nTurn your creative ideas into reality in our relaxed and friendly atmosphere! Got a project you’ve been wanting to tackle? Or maybe you just want to experiment by mixing yarn with buttons? Now’s your chance! Best of all\, you won’t have to worry about cleanup—we’ve got that covered! \nWhat to Expect: \n\nAccess to a treasure trove of supplies just waiting to be transformed into something fabulous.\nWhile there’s no formal instruction\, our friendly crafting enthusiasts will be on hand to offer tips\, tricks\, and plenty of encouragement (and laughs!).\nA warm and welcoming environment where crafty teens can connect\, collaborate\, and create!\nFree coffee\, tea\, hot chocolate\, water machine and snacks.\n\nKeep in mind that some crafts may take longer to complete\, so choose a project that fits the time you have available. There will also be a premium upgrade option for more complex or larger projects. \nSo gather your friends and let your creativity flow! At Open Crafting\, the only limits are your imagination (and our supply stock). Space is limited to 24 crafters at a time\, so feel free to contact the studio in advance if you have a larger group. \nPricing:\n– Tween Crafters (8-13 yrs) – $40\n– Teen Crafters (14+) – $45 \nLet’s get creative—because life’s too short not to add a little glue and glitter to it! If you have any questions\, please call the studio at (617) 307-3447.
URL:https://knotandpurl.com/calendar/april-recess-break-open-crafting-9/
CATEGORIES:All Crafts,Family Friendly,Holiday,Recurring
ATTACH;FMTTYPE=image/png:https://knotandpurl.com/wp-content/uploads/2024/06/April-Break-Ad-Instagram-Post-45.png
END:VEVENT
END:VCALENDAR